BEGIN:VCALENDAR
VERSION:2.0
PRODID:-//wp-events-plugin.com//7.2.3.1//EN
TZID:America/Chicago
X-WR-TIMEZONE:America/Chicago
BEGIN:VEVENT
UID:8@thefreightway.com
DTSTART;TZID=America/Chicago:20260623T080000
DTEND;TZID=America/Chicago:20260623T093000
DTSTAMP:20251113T165304Z
URL:https://www.thefreightway.com/events/2026-air-race-classic/
SUMMARY:2026 Air Race Classic
DESCRIPTION:The Air Race Classic is an all-female piloted aviation race fea
 turing upwards of 60 teams from across the country\, all competing in flyi
 ng a pre-determined four-day route spanning 2\,400 nautical miles. For the
  first time ever\, St. Louis Regional Airport will serve as the starting p
 oint for this exciting event!\n\nBring your own chair to the designated v
 iewing area: Piston Aviation Flight School (16 Terminal Drive\, East Alton
 \, IL 62024)\n\nDoors open at 7:30am.\n\n&nbsp\;\n\n
ATTACH;FMTTYPE=image/jpeg:https://www.thefreightway.com/wp-content/uploads
 /2025/11/arc-route-map-2026.webp
CATEGORIES:Aerospace and Aviation
LOCATION:Piston Aviation Flight School at St. Louis Regional Airport\, 16 T
 erminal Dr.\, East Alton\, IL\, 62024\, United States
X-APPLE-STRUCTURED-LOCATION;VALUE=URI;X-ADDRESS=16 Terminal Dr.\, East Alto
 n\, IL\, 62024\, United States;X-APPLE-RADIUS=100;X-TITLE=Piston Aviation 
 Flight School at St. Louis Regional Airport:geo:0,0
END:VEVENT
BEGIN:VTIMEZONE
TZID:America/Chicago
X-LIC-LOCATION:America/Chicago
BEGIN:DAYLIGHT
DTSTART:20260308T030000
TZOFFSETFROM:-0600
TZOFFSETTO:-0500
TZNAME:CDT
END:DAYLIGHT
END:VTIMEZONE
END:VCALENDAR