BEGIN:VCALENDAR
VERSION:2.0
PRODID:-//wp-events-plugin.com//7.2.3.1//EN
TZID:America/Chicago
X-WR-TIMEZONE:America/Chicago
BEGIN:VEVENT
UID:135@thefreightway.com
DTSTART;TZID=America/Chicago;VALUE=DATE:20251006
DTEND;TZID=America/Chicago;VALUE=DATE:20251010
DTSTAMP:20251120T202025Z
URL:https://www.thefreightway.com/events/ame-international-conference-ame-
 st-louis-2025/
SUMMARY:AME International Conference: AME St. Louis 2025
DESCRIPTION:
CATEGORIES:Aerospace and Aviation
LOCATION:America's Center Convention Complex\, 701 Convention Plaza\, St. L
 ouis\, MO\, 63101\, United States
X-APPLE-STRUCTURED-LOCATION;VALUE=URI;X-ADDRESS=701 Convention Plaza\, St. 
 Louis\, MO\, 63101\, United States;X-APPLE-RADIUS=100;X-TITLE=America's Ce
 nter Convention Complex:geo:0,0
END:VEVENT
BEGIN:VTIMEZONE
TZID:America/Chicago
X-LIC-LOCATION:America/Chicago
BEGIN:DAYLIGHT
DTSTART:20250309T030000
TZOFFSETFROM:-0600
TZOFFSETTO:-0500
TZNAME:CDT
END:DAYLIGHT
END:VTIMEZONE
END:VCALENDAR