BEGIN:VCALENDAR
VERSION:2.0
PRODID:-//wp-events-plugin.com//7.2.3.1//EN
TZID:America/Chicago
X-WR-TIMEZONE:America/Chicago
BEGIN:VEVENT
UID:139@thefreightway.com
DTSTART;TZID=America/Chicago;VALUE=DATE:20260606
DTEND;TZID=America/Chicago;VALUE=DATE:20260608
DTSTAMP:20260105T223721Z
URL:https://www.thefreightway.com/events/the-spirit-of-st-louis-air-show-s
 tem-expo/
SUMMARY:The Spirit of St. Louis Air Show &amp\; STEM Expo
DESCRIPTION:\n\n\n\n\n\n\nThe Spirit of St. Louis Air Show and STEM Expo®\
 , presented by Boeing is a two-day\, inspirational family-focused event at
  the Spirit of St. Louis Airport\, designed to support current regional ef
 forts that promote Science\, Technology\, Engineering and Math (STEM) as w
 ell as aviation education and career opportunities.\n\nThe Spirit of St. L
 ouis Air Show &amp\; STEM Expo® is a 501(c)(3) not-for-profit corporation
  governed by volunteers. It is necessary to charge admission in order to o
 ffset the costs associated with producing the event\, including support se
 rvices for all personnel and aircraft that participate in the event. Donat
 ions received by Spirit of St. Louis Air Show &amp\; STEM Expo® are used 
 to produce the event. It is also noteworthy that the production on Air Sho
 w days is implemented by approximately 1\,000 volunteers who contribute th
 eir time and energy to ensure the success of the Air Show.\nTickets\nTicke
 ts are available ONLINE ONLY\, at spirit-airshow.com. Re-entry is permitt
 ed until 3pm. Keep your ticket stub if you print off a copy and get your h
 and stamped as you exit.  Please check website for updates. Children 12 a
 nd under are free. Please consider ordering a “free” children’s tick
 et online to expedite entry into the Air Show grounds.\n\n\n\n\n\n\n
ATTACH;FMTTYPE=image/jpeg:https://www.thefreightway.com/wp-content/uploads
 /2026/01/air-show-2026-event-banner.webp
CATEGORIES:Aerospace and Aviation
LOCATION:Spirit of St. Louis Airport\, 18270 Edison Avenue\, Chesterfield\,
  MO\, 63005\, United States
X-APPLE-STRUCTURED-LOCATION;VALUE=URI;X-ADDRESS=18270 Edison Avenue\, Chest
 erfield\, MO\, 63005\, United States;X-APPLE-RADIUS=100;X-TITLE=Spirit of 
 St. Louis Airport:geo:0,0
END:VEVENT
BEGIN:VTIMEZONE
TZID:America/Chicago
X-LIC-LOCATION:America/Chicago
BEGIN:DAYLIGHT
DTSTART:20260308T030000
TZOFFSETFROM:-0600
TZOFFSETTO:-0500
TZNAME:CDT
END:DAYLIGHT
END:VTIMEZONE
END:VCALENDAR