BEGIN:VCALENDAR
VERSION:2.0
PRODID:-//wp-events-plugin.com//7.2.3.1//EN
TZID:America/Chicago
X-WR-TIMEZONE:America/Chicago
BEGIN:VEVENT
UID:10@thefreightway.com
DTSTART;TZID=America/Chicago:20250619T100000
DTEND;TZID=America/Chicago:20251109T170000
DTSTAMP:20251112T213428Z
URL:https://www.thefreightway.com/events/tuskegee-airmen-americas-freedom-
 flyers/
SUMMARY:Tuskegee Airmen: America’s Freedom Flyers
DESCRIPTION:As part of the Missouri Historical Society’s commitment to sh
 aring new and engaging stories at Soldiers Memorial\, this traveling exhib
 it will allow you to explore the enduring and inspirational history of the
  first Black Army Air Corps pilots. Through more than 100 panels and artif
 acts\, visitors will learn the story of Tuskegee Airmen from around the wo
 rld who fought for the right to defend their country.\n\nThis traveling ex
 hibit at Soldiers Memorial Military Museum opens on Juneteenth and will be
  on view until early November.\n
ATTACH;FMTTYPE=image/jpeg:https://www.thefreightway.com/wp-content/uploads
 /2025/11/tuskegee-main.jpg
CATEGORIES:Aerospace and Aviation
LOCATION:Soldiers Memorial Military Museum\, 1315 Chestnut St\, St. Louis\,
  MO\, 63103\, United States
X-APPLE-STRUCTURED-LOCATION;VALUE=URI;X-ADDRESS=1315 Chestnut St\, St. Loui
 s\, MO\, 63103\, United States;X-APPLE-RADIUS=100;X-TITLE=Soldiers Memoria
 l Military Museum:geo:0,0
END:VEVENT
BEGIN:VTIMEZONE
TZID:America/Chicago
X-LIC-LOCATION:America/Chicago
BEGIN:DAYLIGHT
DTSTART:20250309T030000
TZOFFSETFROM:-0600
TZOFFSETTO:-0500
TZNAME:CDT
END:DAYLIGHT
BEGIN:STANDARD
DTSTART:20251102T010000
TZOFFSETFROM:-0500
TZOFFSETTO:-0600
TZNAME:CST
END:STANDARD
END:VTIMEZONE
END:VCALENDAR